BEGIN:VCALENDAR
VERSION:2.0
PRODID:-//À livre ouvert / wie ein offenes Buch - ECPv6.15.20//NONSGML v1.0//EN
CALSCALE:GREGORIAN
METHOD:PUBLISH
X-ORIGINAL-URL:https://a-livre-ouvert.org
X-WR-CALDESC:Évènements pour À livre ouvert / wie ein offenes Buch
REFRESH-INTERVAL;VALUE=DURATION:PT1H
X-Robots-Tag:noindex
X-PUBLISHED-TTL:PT1H
BEGIN:VTIMEZONE
TZID:Europe/Paris
BEGIN:DAYLIGHT
TZOFFSETFROM:+0100
TZOFFSETTO:+0200
TZNAME:CEST
DTSTART:20240331T010000
END:DAYLIGHT
BEGIN:STANDARD
TZOFFSETFROM:+0200
TZOFFSETTO:+0100
TZNAME:CET
DTSTART:20241027T010000
END:STANDARD
BEGIN:DAYLIGHT
TZOFFSETFROM:+0100
TZOFFSETTO:+0200
TZNAME:CEST
DTSTART:20250330T010000
END:DAYLIGHT
BEGIN:STANDARD
TZOFFSETFROM:+0200
TZOFFSETTO:+0100
TZNAME:CET
DTSTART:20251026T010000
END:STANDARD
BEGIN:DAYLIGHT
TZOFFSETFROM:+0100
TZOFFSETTO:+0200
TZNAME:CEST
DTSTART:20260329T010000
END:DAYLIGHT
BEGIN:STANDARD
TZOFFSETFROM:+0200
TZOFFSETTO:+0100
TZNAME:CET
DTSTART:20261025T010000
END:STANDARD
END:VTIMEZONE
BEGIN:VEVENT
DTSTART;TZID=Europe/Paris:20250429T190000
DTEND;TZID=Europe/Paris:20250429T200000
DTSTAMP:20260421T120306
CREATED:20250425T110016Z
LAST-MODIFIED:20250502T212805Z
UID:4374-1745953200-1745956800@a-livre-ouvert.org
SUMMARY:La pensée Wittig : Rencontre avec Sara Garbagnoli\, animée par Aline Martin
DESCRIPTION:À propos de La pensée Wittig\n\n\n\n\n\nComment être un sujet malgré l’oppression ? La pensée révolutionnaire et l’œuvre de Monique Wittig dialoguent aujourd’hui avec les analyses et politiques féministes et LGBTQIA+\, sa théorisation matérialiste du lesbianisme irrigue les mouvements queer et le féminisme contemporain. En proposant une analyse fine du fonctionnement de l’hétérosexualité comme régime politique total\, Wittig théoricienne\, écrivaine et militante ouvre la possibilité d’un monde au-delà des catégories de sexe et de genre\, fondé sur une nouvelle définition de l’humain. Ce livre se veut une boussole pour s’acheminer vers un tel horizon. \n\n\n\nSociologue et féministe\, Sara Garbagnoli est chercheuse indépendante associée au LEGS–CNRS et à PoliTeSse–Università di Verona. Ses recherches portent sur la théorie féministe\, l’analyse du discours et la sociologie des mouvements sociaux. Elle a codirigé avec Théo Mantion l’édition du recueil de Monique Wittig\, Dans l’arène ennemie (Minuit\, 2024). Elle est l’auteure avec Massimo Prearo de La croisade « anti-gender » (Textuel 2017) et avec Eva Feole de Monique Wittig (DeriveApprodi\, 2023). A publié dans Les Cahiers du Genre\, Nouvelles Questions Féministes\, Religion & Gender et écrit dans Médiapart\, AOC.media\, La Déferlante. Pour son travail de recherche\, elle a reçu le prix Emma Goldman Award décerné par la FLAX Foundation.
URL:https://a-livre-ouvert.org/evenement/la-pensee-wittig-rencontre-quai-des-brumes/
LOCATION:Librairie Quai des Brumes\, 120 Grand'Rue\, Strasbourg\, 67000\, France
CATEGORIES:Monique Wittig
ATTACH;FMTTYPE=image/jpeg:https://a-livre-ouvert.org/wp-content/uploads/La-pensee-Wittig.jpg
END:VEVENT
END:VCALENDAR